Package: arrayQuality Version: 1.89.0 Command: /Library/Frameworks/R.framework/Resources/bin/R CMD build --keep-empty-dirs --no-resave-data arrayQuality StartedAt: 2025-11-18 16:04:20 -0500 (Tue, 18 Nov 2025) EndedAt: 2025-11-18 16:04:31 -0500 (Tue, 18 Nov 2025) EllapsedTime: 10.3 seconds RetCode: 0 Status: OK PackageFile: arrayQuality_1.89.0.tar.gz PackageFileSize: 12.82 MiB