Package: arrayQuality Version: 1.89.0 Command: /Library/Frameworks/R.framework/Resources/bin/R CMD INSTALL arrayQuality StartedAt: 2025-11-18 15:11:10 -0500 (Tue, 18 Nov 2025) EndedAt: 2025-11-18 15:11:45 -0500 (Tue, 18 Nov 2025) EllapsedTime: 34.3 seconds RetCode: 0 Status: OK