Package: arrayQuality Version: 1.89.0 Command: /home/biocbuild/bbs-3.23-bioc/R/bin/R CMD INSTALL arrayQuality StartedAt: 2025-11-18 15:57:08 -0500 (Tue, 18 Nov 2025) EndedAt: 2025-11-18 15:57:26 -0500 (Tue, 18 Nov 2025) EllapsedTime: 18.3 seconds RetCode: 0 Status: OK