Package: arrayQualityMetrics Version: 3.67.0 Command: rm -rf arrayQualityMetrics.buildbin-libdir && mkdir arrayQualityMetrics.buildbin-libdir && /Users/biocbuild/BBS/utils/build-universal.sh arrayQualityMetrics_3.67.0.tar.gz /Library/Frameworks/R.framework/Resources/bin/R arrayQualityMetrics.buildbin-libdir StartedAt: 2025-11-20 01:21:16 -0500 (Thu, 20 Nov 2025) EndedAt: 2025-11-20 01:21:57 -0500 (Thu, 20 Nov 2025) EllapsedTime: 40.4 seconds RetCode: 0 Status: OK PackageFile: arrayQualityMetrics_3.67.0.tgz PackageFileSize: 557.3 KiB