Package: arrayQualityMetrics Version: 3.67.0 Command: /Library/Frameworks/R.framework/Resources/bin/R CMD build --keep-empty-dirs --no-resave-data arrayQualityMetrics StartedAt: 2025-11-19 16:06:43 -0500 (Wed, 19 Nov 2025) EndedAt: 2025-11-19 16:14:36 -0500 (Wed, 19 Nov 2025) EllapsedTime: 473.2 seconds RetCode: 0 Status: OK PackageFile: arrayQualityMetrics_3.67.0.tar.gz PackageFileSize: 595.7 KiB