Package: arrayQualityMetrics Version: 3.67.0 Command: /Library/Frameworks/R.framework/Resources/bin/R CMD INSTALL arrayQualityMetrics StartedAt: 2025-11-19 15:33:49 -0500 (Wed, 19 Nov 2025) EndedAt: 2025-11-19 15:34:25 -0500 (Wed, 19 Nov 2025) EllapsedTime: 35.9 seconds RetCode: 0 Status: OK