Package: basilisk.utils Version: 1.23.1 Command: /Library/Frameworks/R.framework/Resources/bin/R CMD build --keep-empty-dirs --no-resave-data basilisk.utils StartedAt: 2025-11-18 15:51:53 -0500 (Tue, 18 Nov 2025) EndedAt: 2025-11-18 15:52:13 -0500 (Tue, 18 Nov 2025) EllapsedTime: 19.2 seconds RetCode: 0 Status: OK PackageFile: basilisk.utils_1.23.1.tar.gz PackageFileSize: 229.5 KiB