Package: basilisk.utils Version: 1.23.1 Command: /Library/Frameworks/R.framework/Resources/bin/R CMD build --keep-empty-dirs --no-resave-data basilisk.utils StartedAt: 2025-11-19 16:10:25 -0500 (Wed, 19 Nov 2025) EndedAt: 2025-11-19 16:10:33 -0500 (Wed, 19 Nov 2025) EllapsedTime: 8.0 seconds RetCode: 0 Status: OK PackageFile: basilisk.utils_1.23.1.tar.gz PackageFileSize: 229.5 KiB