Package: basilisk.utils Version: 1.23.1 Command: /Library/Frameworks/R.framework/Resources/bin/R CMD INSTALL basilisk.utils StartedAt: 2025-11-18 15:11:08 -0500 (Tue, 18 Nov 2025) EndedAt: 2025-11-18 15:11:40 -0500 (Tue, 18 Nov 2025) EllapsedTime: 32.7 seconds RetCode: 0 Status: OK