Package: basilisk.utils Version: 1.23.1 Command: /home/biocbuild/bbs-3.23-bioc/R/bin/R CMD INSTALL basilisk.utils StartedAt: 2025-11-18 15:57:05 -0500 (Tue, 18 Nov 2025) EndedAt: 2025-11-18 15:57:15 -0500 (Tue, 18 Nov 2025) EllapsedTime: 9.9 seconds RetCode: 0 Status: OK