Package: basilisk Version: 1.23.0 Command: /Library/Frameworks/R.framework/Resources/bin/R CMD build --keep-empty-dirs --no-resave-data basilisk StartedAt: 2025-11-19 15:42:56 -0500 (Wed, 19 Nov 2025) EndedAt: 2025-11-19 15:44:09 -0500 (Wed, 19 Nov 2025) EllapsedTime: 72.8 seconds RetCode: 0 Status: OK PackageFile: basilisk_1.23.0.tar.gz PackageFileSize: 261 KiB