Package: basilisk Version: 1.23.0 Command: /Library/Frameworks/R.framework/Resources/bin/R CMD INSTALL basilisk StartedAt: 2025-11-19 15:07:58 -0500 (Wed, 19 Nov 2025) EndedAt: 2025-11-19 15:08:06 -0500 (Wed, 19 Nov 2025) EllapsedTime: 7.8 seconds RetCode: 0 Status: OK