Package: basilisk Version: 1.23.0 Command: rm -rf basilisk.buildbin-libdir && mkdir basilisk.buildbin-libdir && /Users/biocbuild/BBS/utils/build-universal.sh basilisk_1.23.0.tar.gz /Library/Frameworks/R.framework/Resources/bin/R basilisk.buildbin-libdir StartedAt: 2025-11-19 01:17:45 -0500 (Wed, 19 Nov 2025) EndedAt: 2025-11-19 01:17:55 -0500 (Wed, 19 Nov 2025) EllapsedTime: 9.4 seconds RetCode: 0 Status: OK PackageFile: basilisk_1.23.0.tgz PackageFileSize: 316.6 KiB