Package: basilisk Version: 1.23.0 Command: /Library/Frameworks/R.framework/Resources/bin/R CMD build --keep-empty-dirs --no-resave-data basilisk StartedAt: 2025-11-18 16:07:52 -0500 (Tue, 18 Nov 2025) EndedAt: 2025-11-18 16:18:00 -0500 (Tue, 18 Nov 2025) EllapsedTime: 608.5 seconds RetCode: 0 Status: OK PackageFile: basilisk_1.23.0.tar.gz PackageFileSize: 260.9 KiB