Package: basilisk Version: 1.23.0 Command: /Library/Frameworks/R.framework/Resources/bin/R CMD INSTALL basilisk StartedAt: 2025-11-18 15:16:55 -0500 (Tue, 18 Nov 2025) EndedAt: 2025-11-18 15:17:20 -0500 (Tue, 18 Nov 2025) EllapsedTime: 24.9 seconds RetCode: 0 Status: OK