Package: basilisk Version: 1.23.0 Command: /home/biocbuild/bbs-3.23-bioc/R/bin/R CMD build --keep-empty-dirs --no-resave-data basilisk StartedAt: 2025-11-19 16:22:47 -0500 (Wed, 19 Nov 2025) EndedAt: 2025-11-19 16:23:34 -0500 (Wed, 19 Nov 2025) EllapsedTime: 47.0 seconds RetCode: 0 Status: OK PackageFile: basilisk_1.23.0.tar.gz PackageFileSize: 261 KiB