Package: basilisk Version: 1.23.0 Command: /home/biocbuild/bbs-3.23-bioc/R/bin/R CMD INSTALL basilisk StartedAt: 2025-11-19 15:14:38 -0500 (Wed, 19 Nov 2025) EndedAt: 2025-11-19 15:14:48 -0500 (Wed, 19 Nov 2025) EllapsedTime: 10.3 seconds RetCode: 0 Status: OK