Package: batchCorr Version: 1.1.0 Command: /Library/Frameworks/R.framework/Resources/bin/R CMD build --keep-empty-dirs --no-resave-data batchCorr StartedAt: 2025-11-18 15:51:53 -0500 (Tue, 18 Nov 2025) EndedAt: 2025-11-18 15:52:46 -0500 (Tue, 18 Nov 2025) EllapsedTime: 52.6 seconds RetCode: 0 Status: OK PackageFile: batchCorr_1.1.0.tar.gz PackageFileSize: 900.7 KiB