Package: beadarray Version: 2.61.0 Command: /home/biocbuild/bbs-3.23-bioc/R/bin/R CMD build --keep-empty-dirs --no-resave-data beadarray StartedAt: 2025-11-23 16:24:38 -0500 (Sun, 23 Nov 2025) EndedAt: 2025-11-23 16:27:19 -0500 (Sun, 23 Nov 2025) EllapsedTime: 161.1 seconds RetCode: 0 Status: OK PackageFile: beadarray_2.61.0.tar.gz PackageFileSize: 3.741 MiB