Package: beadarray Version: 2.61.0 Command: /home/biocbuild/bbs-3.23-bioc/R/bin/R CMD INSTALL beadarray StartedAt: 2025-11-23 15:30:57 -0500 (Sun, 23 Nov 2025) EndedAt: 2025-11-23 15:31:23 -0500 (Sun, 23 Nov 2025) EllapsedTime: 26.0 seconds RetCode: 0 Status: OK