Package: blacksheepr Version: 1.25.0 Command: /Library/Frameworks/R.framework/Resources/bin/R CMD INSTALL blacksheepr StartedAt: 2025-11-18 15:28:38 -0500 (Tue, 18 Nov 2025) EndedAt: 2025-11-18 15:28:49 -0500 (Tue, 18 Nov 2025) EllapsedTime: 11.0 seconds RetCode: 0 Status: OK