Package: branchpointer Version: 1.37.0 Command: /Library/Frameworks/R.framework/Resources/bin/R CMD INSTALL branchpointer StartedAt: 2025-11-19 15:20:57 -0500 (Wed, 19 Nov 2025) EndedAt: 2025-11-19 15:21:19 -0500 (Wed, 19 Nov 2025) EllapsedTime: 21.9 seconds RetCode: 0 Status: OK