Package: branchpointer Version: 1.37.0 Command: /Library/Frameworks/R.framework/Resources/bin/R CMD build --keep-empty-dirs --no-resave-data branchpointer StartedAt: 2025-11-19 16:19:42 -0500 (Wed, 19 Nov 2025) EndedAt: 2025-11-19 16:21:01 -0500 (Wed, 19 Nov 2025) EllapsedTime: 78.8 seconds RetCode: 1 Status: ERROR PackageFile: None PackageFileSize: NA