Package: branchpointer Version: 1.37.0 Command: /Library/Frameworks/R.framework/Resources/bin/R CMD INSTALL branchpointer StartedAt: 2025-11-19 15:38:47 -0500 (Wed, 19 Nov 2025) EndedAt: 2025-11-19 15:39:58 -0500 (Wed, 19 Nov 2025) EllapsedTime: 70.8 seconds RetCode: 0 Status: OK