Package: branchpointer Version: 1.37.0 Command: /home/biocbuild/bbs-3.23-bioc/R/bin/R CMD INSTALL branchpointer StartedAt: 2025-11-19 15:40:06 -0500 (Wed, 19 Nov 2025) EndedAt: 2025-11-19 15:40:59 -0500 (Wed, 19 Nov 2025) EllapsedTime: 53.5 seconds RetCode: 0 Status: OK