Package: cliProfiler Version: 1.17.0 Command: /Library/Frameworks/R.framework/Resources/bin/R CMD INSTALL cliProfiler StartedAt: 2025-11-18 15:28:01 -0500 (Tue, 18 Nov 2025) EndedAt: 2025-11-18 15:28:16 -0500 (Tue, 18 Nov 2025) EllapsedTime: 14.1 seconds RetCode: 0 Status: OK