Package: cliProfiler Version: 1.17.0 Command: /Library/Frameworks/R.framework/Resources/bin/R CMD build --keep-empty-dirs --no-resave-data cliProfiler StartedAt: 2025-11-18 16:27:42 -0500 (Tue, 18 Nov 2025) EndedAt: 2025-11-18 16:29:05 -0500 (Tue, 18 Nov 2025) EllapsedTime: 82.3 seconds RetCode: 0 Status: OK PackageFile: cliProfiler_1.17.0.tar.gz PackageFileSize: 1.284 MiB