Package: cliProfiler Version: 1.17.0 Command: /Library/Frameworks/R.framework/Resources/bin/R CMD INSTALL cliProfiler StartedAt: 2025-11-19 15:37:06 -0500 (Wed, 19 Nov 2025) EndedAt: 2025-11-19 15:37:52 -0500 (Wed, 19 Nov 2025) EllapsedTime: 45.5 seconds RetCode: 0 Status: OK