Package: cliProfiler Version: 1.17.0 Command: /home/biocbuild/bbs-3.23-bioc/R/bin/R CMD build --keep-empty-dirs --no-resave-data cliProfiler StartedAt: 2025-11-21 16:50:59 -0500 (Fri, 21 Nov 2025) EndedAt: 2025-11-21 16:52:12 -0500 (Fri, 21 Nov 2025) EllapsedTime: 73.1 seconds RetCode: 0 Status: OK PackageFile: cliProfiler_1.17.0.tar.gz PackageFileSize: 1.209 MiB