Package: cliProfiler Version: 1.17.0 Command: /home/biocbuild/bbs-3.23-bioc/R/bin/R CMD INSTALL cliProfiler StartedAt: 2025-11-21 15:31:19 -0500 (Fri, 21 Nov 2025) EndedAt: 2025-11-21 15:31:56 -0500 (Fri, 21 Nov 2025) EllapsedTime: 36.4 seconds RetCode: 0 Status: OK