Package: clustComp Version: 1.39.0 Command: rm -rf clustComp.buildbin-libdir && mkdir clustComp.buildbin-libdir && /Users/biocbuild/BBS/utils/build-universal.sh clustComp_1.39.0.tar.gz /Library/Frameworks/R.framework/Resources/bin/R clustComp.buildbin-libdir StartedAt: 2025-11-19 23:28:24 -0500 (Wed, 19 Nov 2025) EndedAt: 2025-11-19 23:28:27 -0500 (Wed, 19 Nov 2025) EllapsedTime: 3.0 seconds RetCode: 0 Status: OK PackageFile: clustComp_1.39.0.tgz PackageFileSize: 1019 KiB