Package: clustComp Version: 1.39.0 Command: /Library/Frameworks/R.framework/Resources/bin/R CMD build --keep-empty-dirs --no-resave-data clustComp StartedAt: 2025-11-19 16:31:40 -0500 (Wed, 19 Nov 2025) EndedAt: 2025-11-19 16:32:43 -0500 (Wed, 19 Nov 2025) EllapsedTime: 62.9 seconds RetCode: 0 Status: OK PackageFile: clustComp_1.39.0.tar.gz PackageFileSize: 931.2 KiB