Package: clustComp Version: 1.39.0 Command: /Library/Frameworks/R.framework/Resources/bin/R CMD INSTALL clustComp StartedAt: 2025-11-19 15:11:23 -0500 (Wed, 19 Nov 2025) EndedAt: 2025-11-19 15:11:36 -0500 (Wed, 19 Nov 2025) EllapsedTime: 12.8 seconds RetCode: 0 Status: OK