Package: clustComp Version: 1.39.0 Command: /home/biocbuild/bbs-3.23-bioc/R/bin/R CMD INSTALL clustComp StartedAt: 2025-11-19 15:05:44 -0500 (Wed, 19 Nov 2025) EndedAt: 2025-11-19 15:05:51 -0500 (Wed, 19 Nov 2025) EllapsedTime: 7.7 seconds RetCode: 0 Status: OK