Package: clustSIGNAL Version: 1.3.0 Command: /Library/Frameworks/R.framework/Resources/bin/R CMD build --keep-empty-dirs --no-resave-data clustSIGNAL StartedAt: 2025-11-19 15:57:24 -0500 (Wed, 19 Nov 2025) EndedAt: 2025-11-19 15:58:01 -0500 (Wed, 19 Nov 2025) EllapsedTime: 37.4 seconds RetCode: 0 Status: OK PackageFile: clustSIGNAL_1.3.0.tar.gz PackageFileSize: 4.58 MiB