Package: clustSIGNAL Version: 1.3.0 Command: /Library/Frameworks/R.framework/Resources/bin/R CMD INSTALL clustSIGNAL StartedAt: 2025-11-18 15:40:21 -0500 (Tue, 18 Nov 2025) EndedAt: 2025-11-18 15:40:37 -0500 (Tue, 18 Nov 2025) EllapsedTime: 15.5 seconds RetCode: 0 Status: OK