Package: clustSIGNAL Version: 1.3.0 Command: rm -rf clustSIGNAL.buildbin-libdir && mkdir clustSIGNAL.buildbin-libdir && /Users/biocbuild/BBS/utils/build-universal.sh clustSIGNAL_1.3.0.tar.gz /Library/Frameworks/R.framework/Resources/bin/R clustSIGNAL.buildbin-libdir StartedAt: 2025-11-20 01:26:43 -0500 (Thu, 20 Nov 2025) EndedAt: 2025-11-20 01:27:30 -0500 (Thu, 20 Nov 2025) EllapsedTime: 47.2 seconds RetCode: 0 Status: OK PackageFile: clustSIGNAL_1.3.0.tgz PackageFileSize: 4.612 MiB