Package: clustSIGNAL Version: 1.3.0 Command: /Library/Frameworks/R.framework/Resources/bin/R CMD build --keep-empty-dirs --no-resave-data clustSIGNAL StartedAt: 2025-11-19 16:32:36 -0500 (Wed, 19 Nov 2025) EndedAt: 2025-11-19 16:34:20 -0500 (Wed, 19 Nov 2025) EllapsedTime: 104.2 seconds RetCode: 0 Status: OK PackageFile: clustSIGNAL_1.3.0.tar.gz PackageFileSize: 4.58 MiB