Package: clustSIGNAL Version: 1.3.0 Command: /home/biocbuild/bbs-3.23-bioc/R/bin/R CMD INSTALL clustSIGNAL StartedAt: 2025-11-18 16:49:35 -0500 (Tue, 18 Nov 2025) EndedAt: 2025-11-18 16:50:06 -0500 (Tue, 18 Nov 2025) EllapsedTime: 31.2 seconds RetCode: 0 Status: OK