Package: clusterProfiler Version: 4.19.1 Command: rm -rf clusterProfiler.buildbin-libdir && mkdir clusterProfiler.buildbin-libdir && /Users/biocbuild/BBS/utils/build-universal.sh clusterProfiler_4.19.1.tar.gz /Library/Frameworks/R.framework/Resources/bin/R clusterProfiler.buildbin-libdir StartedAt: 2025-11-18 23:35:26 -0500 (Tue, 18 Nov 2025) EndedAt: 2025-11-18 23:35:39 -0500 (Tue, 18 Nov 2025) EllapsedTime: 13.4 seconds RetCode: 0 Status: OK PackageFile: clusterProfiler_4.19.1.tgz PackageFileSize: 1.02 MiB