Package: clusterProfiler Version: 4.19.1 Command: /Library/Frameworks/R.framework/Resources/bin/R CMD build --keep-empty-dirs --no-resave-data clusterProfiler StartedAt: 2025-11-18 16:06:23 -0500 (Tue, 18 Nov 2025) EndedAt: 2025-11-18 16:06:34 -0500 (Tue, 18 Nov 2025) EllapsedTime: 11.1 seconds RetCode: 0 Status: OK PackageFile: clusterProfiler_4.19.1.tar.gz PackageFileSize: 611.2 KiB