Package: clusterProfiler Version: 4.19.1 Command: /Library/Frameworks/R.framework/Resources/bin/R CMD INSTALL clusterProfiler StartedAt: 2025-11-18 15:34:53 -0500 (Tue, 18 Nov 2025) EndedAt: 2025-11-18 15:35:03 -0500 (Tue, 18 Nov 2025) EllapsedTime: 10.5 seconds RetCode: 0 Status: OK