Package: clusterProfiler Version: 4.19.2 Command: /Library/Frameworks/R.framework/Resources/bin/R CMD INSTALL clusterProfiler StartedAt: 2025-11-25 15:57:47 -0500 (Tue, 25 Nov 2025) EndedAt: 2025-11-25 15:58:23 -0500 (Tue, 25 Nov 2025) EllapsedTime: 35.8 seconds RetCode: 0 Status: OK