Package: clusterSeq Version: 1.35.0 Command: rm -rf clusterSeq.buildbin-libdir && mkdir clusterSeq.buildbin-libdir && /Users/biocbuild/BBS/utils/build-universal.sh clusterSeq_1.35.0.tar.gz /Library/Frameworks/R.framework/Resources/bin/R clusterSeq.buildbin-libdir StartedAt: 2025-11-19 23:28:32 -0500 (Wed, 19 Nov 2025) EndedAt: 2025-11-19 23:28:39 -0500 (Wed, 19 Nov 2025) EllapsedTime: 7.2 seconds RetCode: 0 Status: OK PackageFile: clusterSeq_1.35.0.tgz PackageFileSize: 1.054 MiB