Package: clusterSeq Version: 1.35.0 Command: /Library/Frameworks/R.framework/Resources/bin/R CMD INSTALL clusterSeq StartedAt: 2025-11-19 15:12:38 -0500 (Wed, 19 Nov 2025) EndedAt: 2025-11-19 15:12:42 -0500 (Wed, 19 Nov 2025) EllapsedTime: 4.9 seconds RetCode: 0 Status: OK