Package: clusterSeq Version: 1.35.0 Command: /Library/Frameworks/R.framework/Resources/bin/R CMD build --keep-empty-dirs --no-resave-data clusterSeq StartedAt: 2025-11-19 16:32:08 -0500 (Wed, 19 Nov 2025) EndedAt: 2025-11-19 16:33:12 -0500 (Wed, 19 Nov 2025) EllapsedTime: 64.0 seconds RetCode: 0 Status: OK PackageFile: clusterSeq_1.35.0.tar.gz PackageFileSize: 1.008 MiB