Package: clusterSeq Version: 1.35.0 Command: /Library/Frameworks/R.framework/Resources/bin/R CMD INSTALL clusterSeq StartedAt: 2025-11-19 15:24:09 -0500 (Wed, 19 Nov 2025) EndedAt: 2025-11-19 15:24:27 -0500 (Wed, 19 Nov 2025) EllapsedTime: 18.2 seconds RetCode: 0 Status: OK