Package: clusterSeq Version: 1.35.0 Command: /home/biocbuild/bbs-3.23-bioc/R/bin/R CMD build --keep-empty-dirs --no-resave-data clusterSeq StartedAt: 2025-11-19 16:55:23 -0500 (Wed, 19 Nov 2025) EndedAt: 2025-11-19 16:56:15 -0500 (Wed, 19 Nov 2025) EllapsedTime: 52.0 seconds RetCode: 0 Status: OK PackageFile: clusterSeq_1.35.0.tar.gz PackageFileSize: 1.009 MiB