Package: clustifyr Version: 1.23.0 Command: rm -rf clustifyr.buildbin-libdir && mkdir clustifyr.buildbin-libdir && /Users/biocbuild/BBS/utils/build-universal.sh clustifyr_1.23.0.tar.gz /Library/Frameworks/R.framework/Resources/bin/R clustifyr.buildbin-libdir StartedAt: 2025-11-20 01:26:42 -0500 (Thu, 20 Nov 2025) EndedAt: 2025-11-20 01:27:32 -0500 (Thu, 20 Nov 2025) EllapsedTime: 50.8 seconds RetCode: 0 Status: OK PackageFile: clustifyr_1.23.0.tgz PackageFileSize: 3.964 MiB