Package: clustifyr Version: 1.23.0 Command: /Library/Frameworks/R.framework/Resources/bin/R CMD build --keep-empty-dirs --no-resave-data clustifyr StartedAt: 2025-11-18 16:29:00 -0500 (Tue, 18 Nov 2025) EndedAt: 2025-11-18 16:30:08 -0500 (Tue, 18 Nov 2025) EllapsedTime: 67.5 seconds RetCode: 0 Status: OK PackageFile: clustifyr_1.23.0.tar.gz PackageFileSize: 3.235 MiB